BEGIN:VCALENDAR
VERSION:2.0
PRODID:-//My Calendar//http://www.joedolson.com//v3.1.13//EN
METHOD:PUBLISH
CALSCALE:GREGORIAN
X-WR-CALNAME:The Meditating Giraffe
X-PUBLISHED-TTL:PT24H
REFRESH-INTERVAL;VALUE=DURATION:PT24H
X-WR-CALDESC:Events from The Meditating Giraffe
BEGIN:VEVENT
UID:156-144
LOCATION:
SUMMARY:Communicating Compassionately -  Weekend NVC Foundation Workshop - AUCKLAND
DTSTAMP:20210220T090000
ORGANIZER;CN=deb:MAILTO:deb@meditatinggiraffe.co.nz
DTSTART;TZID=Etc/GMT-12:20210220T090000
DTEND;TZID=Etc/GMT-12:20210221T170000
URL;VALUE=URI:http://event-8474-620e.lilregie.com
DESCRIPTION: http://event-8474-620e.lilregie.com
CATEGORIES:General
END:VEVENT
BEGIN:VEVENT
UID:155-143
LOCATION:
SUMMARY:NVC 1 Day intro or Refresher
DTSTAMP:20200913T090000
ORGANIZER;CN=deb:MAILTO:deb@meditatinggiraffe.co.nz
DTSTART;TZID=Etc/GMT-12:20200913T090000
DTEND;TZID=Etc/GMT-12:20200913T170000
URL;VALUE=URI:http://richardmorrison.co.nz/meditatinggiraffe/upcoming-events/
DESCRIPTION: 
CATEGORIES:General
END:VEVENT
BEGIN:VEVENT
UID:154-142
LOCATION:
SUMMARY:Communicating Compassionately - NVC Weekend Foundation Workshop
DTSTAMP:20201205T090000
ORGANIZER;CN=deb:MAILTO:deb@meditatinggiraffe.co.nz
DTSTART;TZID=Etc/GMT-12:20201205T090000
DTEND;TZID=Etc/GMT-12:20201206T170000
URL;VALUE=URI:http://richardmorrison.co.nz/meditatinggiraffe/upcoming-events/
DESCRIPTION: 
CATEGORIES:General
END:VEVENT
BEGIN:VEVENT
UID:153-141
LOCATION:
SUMMARY:1 day intro to NVC with Deb, Wayne &amp; Jocelyn - Online
DTSTAMP:20200705T090000
ORGANIZER;CN=deb:MAILTO:deb@meditatinggiraffe.co.nz
DTSTART;TZID=Etc/GMT-12:20200705T090000
DTEND;TZID=Etc/GMT-12:20200705T170000
URL;VALUE=URI:http://richardmorrison.co.nz/meditatinggiraffe/upcoming-events/
DESCRIPTION: 
CATEGORIES:General
END:VEVENT
BEGIN:VEVENT
UID:151-139
LOCATION:
SUMMARY:Communicating Compassionately - NVC Introduction Weekend Workshop
DTSTAMP:20200801T090000
ORGANIZER;CN=deb:MAILTO:deb@meditatinggiraffe.co.nz
DTSTART;TZID=Etc/GMT-12:20200801T090000
DTEND;TZID=Etc/GMT-12:20200802T170000
URL;VALUE=URI:http://richardmorrison.co.nz/meditatinggiraffe/upcoming-events/
DESCRIPTION: 
CATEGORIES:General
END:VEVENT
BEGIN:VEVENT
UID:150-138
LOCATION:
SUMMARY:Communicating Compassionately - NVC Weekend Foundation Workshop - AUCKLAND
DTSTAMP:20200502T090000
ORGANIZER;CN=deb:MAILTO:deb@meditatinggiraffe.co.nz
DTSTART;TZID=Etc/GMT-12:20200502T090000
DTEND;TZID=Etc/GMT-12:20200503T170000
URL;VALUE=URI:http://richardmorrison.co.nz/meditatinggiraffe/upcoming-events/
DESCRIPTION: 
CATEGORIES:General
END:VEVENT
BEGIN:VEVENT
UID:149-137
LOCATION:
SUMMARY:NVC Extravaganza Day!! 4th April 2020 - AUCKLAND
DTSTAMP:20200404T083000
ORGANIZER;CN=deb:MAILTO:deb@meditatinggiraffe.co.nz
DTSTART;TZID=Etc/GMT-12:20200404T083000
DTEND;TZID=Etc/GMT-12:20200404T170000
URL;VALUE=URI:http://richardmorrison.co.nz/meditatinggiraffe/upcoming-events/
DESCRIPTION: 
CATEGORIES:General
END:VEVENT
BEGIN:VEVENT
UID:148-136
LOCATION:
SUMMARY:Transformative Mediation workshop - 4 days - AUCKLAND
DTSTAMP:20200625T090000
ORGANIZER;CN=deb:MAILTO:deb@meditatinggiraffe.co.nz
DTSTART;TZID=Etc/GMT-12:20200625T090000
DTEND;TZID=Etc/GMT-12:20200628T170000
URL;VALUE=URI:http://richardmorrison.co.nz/meditatinggiraffe/upcoming-events/
DESCRIPTION: 
CATEGORIES:General
END:VEVENT
BEGIN:VEVENT
UID:147-135
LOCATION:
SUMMARY:Communicating Compassionately - Weekend NVC Foundation Workshop - AUCKLAND
DTSTAMP:20200307T090000
ORGANIZER;CN=deb:MAILTO:deb@meditatinggiraffe.co.nz
DTSTART;TZID=Etc/GMT-12:20200307T090000
DTEND;TZID=Etc/GMT-12:20200308T170000
URL;VALUE=URI:http://richardmorrison.co.nz/meditatinggiraffe/upcoming-events/
DESCRIPTION: 
CATEGORIES:General
END:VEVENT
BEGIN:VEVENT
UID:146-134
LOCATION:
SUMMARY:Communicating Compassionately - NVC Weekend Foundation Workshop - AUCKLAND
DTSTAMP:20200215T090000
ORGANIZER;CN=deb:MAILTO:deb@meditatinggiraffe.co.nz
DTSTART;TZID=Etc/GMT-12:20200215T090000
DTEND;TZID=Etc/GMT-12:20200216T170000
URL;VALUE=URI:http://richardmorrison.co.nz/meditatinggiraffe/upcoming-events/
DESCRIPTION: 
CATEGORIES:General
END:VEVENT
BEGIN:VEVENT
UID:145-133
LOCATION:
SUMMARY:Connected Communication - 2 day workshop in putting NVC into practice
DTSTAMP:20191102T090000
ORGANIZER;CN=deb:MAILTO:deb@meditatinggiraffe.co.nz
DTSTART;TZID=Etc/GMT-12:20191102T090000
DTEND;TZID=Etc/GMT-12:20191103T170000
URL;VALUE=URI:http://richardmorrison.co.nz/meditatinggiraffe/upcoming-events/
DESCRIPTION: 
CATEGORIES:General
END:VEVENT
BEGIN:VEVENT
UID:144-132
LOCATION:
SUMMARY:1 Day intro intro to NVC or Refresher
DTSTAMP:20191101T090000
ORGANIZER;CN=deb:MAILTO:deb@meditatinggiraffe.co.nz
DTSTART;TZID=Etc/GMT-12:20191101T090000
DTEND;TZID=Etc/GMT-12:20191101T170000
URL;VALUE=URI:http://richardmorrison.co.nz/meditatinggiraffe/upcoming-events/
DESCRIPTION: 
CATEGORIES:General
END:VEVENT
BEGIN:VEVENT
UID:143-131
LOCATION:
SUMMARY:Communicating Compassionately - NVC Foundation Weekend - AUCKLAND
DTSTAMP:20190907T090000
ORGANIZER;CN=deb:MAILTO:deb@meditatinggiraffe.co.nz
DTSTART;TZID=Etc/GMT-12:20190907T090000
DTEND;TZID=Etc/GMT-12:20190908T170000
URL;VALUE=URI:http://richardmorrison.co.nz/meditatinggiraffe/upcoming-events/
DESCRIPTION: 
CATEGORIES:General
END:VEVENT
BEGIN:VEVENT
UID:142-130
LOCATION:
SUMMARY:Communicating Compassionately for Couples - NVC Practice Day - AUCKLAND
DTSTAMP:20190804T090000
ORGANIZER;CN=deb:MAILTO:deb@meditatinggiraffe.co.nz
DTSTART;TZID=Etc/GMT-12:20190804T090000
DTEND;TZID=Etc/GMT-12:20190804T170000
URL;VALUE=URI:http://richardmorrison.co.nz/meditatinggiraffe/upcoming-events/
DESCRIPTION: 
CATEGORIES:General
END:VEVENT
BEGIN:VEVENT
UID:141-129
LOCATION:
SUMMARY:Communicating Compassionately Intro to NVC - AUCKLAND
DTSTAMP:20190803T090000
ORGANIZER;CN=deb:MAILTO:deb@meditatinggiraffe.co.nz
DTSTART;TZID=Etc/GMT-12:20190803T090000
DTEND;TZID=Etc/GMT-12:20190803T170000
URL;VALUE=URI:http://richardmorrison.co.nz/meditatinggiraffe/upcoming-events/
DESCRIPTION: 
CATEGORIES:General
END:VEVENT
BEGIN:VEVENT
UID:140-128
LOCATION:
SUMMARY:Communicating Compassionately - NVC Weekend Foundation Workshop - AUCKLAND
DTSTAMP:20190525T090000
ORGANIZER;CN=deb:MAILTO:deb@meditatinggiraffe.co.nz
DTSTART;TZID=Etc/GMT-12:20190525T090000
DTEND;TZID=Etc/GMT-12:20190526T170000
URL;VALUE=URI:http://richardmorrison.co.nz/meditatinggiraffe/upcoming-events/
DESCRIPTION: 
CATEGORIES:General
END:VEVENT
BEGIN:VEVENT
UID:139-127
LOCATION:
SUMMARY:Communicating Compassionately - NVC Weekend Foundation Workshop - AUCKLAND
DTSTAMP:20190223T090000
ORGANIZER;CN=deb:MAILTO:deb@meditatinggiraffe.co.nz
DTSTART;TZID=Etc/GMT-12:20190223T090000
DTEND;TZID=Etc/GMT-12:20190224T170000
URL;VALUE=URI:http://richardmorrison.co.nz/meditatinggiraffe/upcoming-events/
DESCRIPTION: 
CATEGORIES:General
END:VEVENT
BEGIN:VEVENT
UID:138-126
LOCATION:
SUMMARY:NVC 1 day introduction workshop - AUCKLAND
DTSTAMP:20180811T090000
ORGANIZER;CN=deb:MAILTO:deb@meditatinggiraffe.co.nz
DTSTART;TZID=Etc/GMT-12:20180811T090000
DTEND;TZID=Etc/GMT-12:20180811T170000
URL;VALUE=URI:http://richardmorrison.co.nz/meditatinggiraffe/upcoming-events/
DESCRIPTION: 
CATEGORIES:1
END:VEVENT
BEGIN:VEVENT
UID:136-125
LOCATION:
SUMMARY:Communicating Compassionately for Couples - 1 day workshop - 29th July 2018 AUCKLAND
DTSTAMP:20180729T090000
ORGANIZER;CN=deb:MAILTO:deb@meditatinggiraffe.co.nz
DTSTART;TZID=Etc/GMT-12:20180729T090000
DTEND;TZID=Etc/GMT-12:20180729T170000
URL;VALUE=URI:http://richardmorrison.co.nz/meditatinggiraffe/upcoming-events/
DESCRIPTION: 
CATEGORIES:1
END:VEVENT
BEGIN:VEVENT
UID:135-124
LOCATION:
SUMMARY:Communicating Compassionately - 1 Day intro to NVC - AUCKLAND
DTSTAMP:20180728T090000
ORGANIZER;CN=deb:MAILTO:deb@meditatinggiraffe.co.nz
DTSTART;TZID=Etc/GMT-12:20180728T090000
DTEND;TZID=Etc/GMT-12:20180728T170000
URL;VALUE=URI:http://richardmorrison.co.nz/meditatinggiraffe/upcoming-events/
DESCRIPTION: 
CATEGORIES:1
END:VEVENT
BEGIN:VEVENT
UID:134-123
LOCATION:
SUMMARY:Empathy Empowerment - 1 day NVC Practice Day - PALMERSTON NORTH
DTSTAMP:20180819T090000
ORGANIZER;CN=deb:MAILTO:deb@meditatinggiraffe.co.nz
DTSTART;TZID=Etc/GMT-12:20180819T090000
DTEND;TZID=Etc/GMT-12:20180819T170000
URL;VALUE=URI:http://richardmorrison.co.nz/meditatinggiraffe/upcoming-events/
DESCRIPTION: 
CATEGORIES:1
END:VEVENT
BEGIN:VEVENT
UID:133-122
LOCATION:
SUMMARY:Communicating Compassionately - 1 day intro workshop to NVC - PALMERSTON NORTH
DTSTAMP:20180818T090000
ORGANIZER;CN=deb:MAILTO:deb@meditatinggiraffe.co.nz
DTSTART;TZID=Etc/GMT-12:20180818T090000
DTEND;TZID=Etc/GMT-12:20180818T170000
URL;VALUE=URI:http://richardmorrison.co.nz/meditatinggiraffe/upcoming-events/
DESCRIPTION: 
CATEGORIES:1
END:VEVENT
BEGIN:VEVENT
UID:132-121
LOCATION:
SUMMARY:Effective Communication - A 1 day NVC Intro workshop for Youth workers, parents &amp; teachers
DTSTAMP:20180816T090000
ORGANIZER;CN=deb:MAILTO:deb@meditatinggiraffe.co.nz
DTSTART;TZID=Etc/GMT-12:20180816T090000
DTEND;TZID=Etc/GMT-12:20180816T170000
URL;VALUE=URI:http://richardmorrison.co.nz/meditatinggiraffe/upcoming-events/
DESCRIPTION: 
CATEGORIES:1
END:VEVENT
BEGIN:VEVENT
UID:131-120
LOCATION:
SUMMARY:Communicating Compassionately - NVC Foundation Workshop - AUCKLAND
DTSTAMP:20180526T090000
ORGANIZER;CN=deb:MAILTO:deb@meditatinggiraffe.co.nz
DTSTART;TZID=Etc/GMT-12:20180526T090000
DTEND;TZID=Etc/GMT-12:20180527T170000
URL;VALUE=URI:http://richardmorrison.co.nz/meditatinggiraffe/upcoming-events/
DESCRIPTION: 
CATEGORIES:1
END:VEVENT
BEGIN:VEVENT
UID:130-119
LOCATION:
SUMMARY:NVC Fortnightly Practice Group - starting Wed 31 January 2018 (Closed group)
DTSTAMP:20180131T190000
ORGANIZER;CN=deb:MAILTO:deb@meditatinggiraffe.co.nz
DTSTART;TZID=Etc/GMT-12:20180131T190000
DTEND;TZID=Etc/GMT-12:20180326T210000
URL;VALUE=URI:http://richardmorrison.co.nz/meditatinggiraffe/upcoming-events/
DESCRIPTION: 
CATEGORIES:1
END:VEVENT
BEGIN:VEVENT
UID:125-115
LOCATION:
SUMMARY:Communicating Compassionately - NVC Weekend Foundation Workshop - AUCKLAND
DTSTAMP:20180217T090000
ORGANIZER;CN=deb:MAILTO:deb@meditatinggiraffe.co.nz
DTSTART;TZID=Etc/GMT-12:20180217T090000
DTEND;TZID=Etc/GMT-12:20180218T170000
URL;VALUE=URI:http://richardmorrison.co.nz/meditatinggiraffe/upcoming-events/
DESCRIPTION: 
CATEGORIES:1
END:VEVENT
BEGIN:VEVENT
UID:124-114
LOCATION:
SUMMARY:Empathy Empowerment - 1 Day NVC Practice Workshop - MATAPOURI
DTSTAMP:20180204T090000
ORGANIZER;CN=deb:MAILTO:deb@meditatinggiraffe.co.nz
DTSTART;TZID=Etc/GMT-12:20180204T090000
DTEND;TZID=Etc/GMT-12:20180204T170000
URL;VALUE=URI:http://richardmorrison.co.nz/meditatinggiraffe/upcoming-events/
DESCRIPTION: 
CATEGORIES:1
END:VEVENT
BEGIN:VEVENT
UID:123-113
LOCATION:Matapouri Hall
SUMMARY:Communicating Compassionately - 1 Day Intro workshop to NVC - MATAPOURI
DTSTAMP:20180203T090000
ORGANIZER;CN=deb:MAILTO:deb@meditatinggiraffe.co.nz
DTSTART;TZID=Etc/GMT-12:20180203T090000
DTEND;TZID=Etc/GMT-12:20180203T170000
URL;VALUE=URI:http://richardmorrison.co.nz/meditatinggiraffe/upcoming-events/
DESCRIPTION: 
CATEGORIES:1
END:VEVENT
BEGIN:VEVENT
UID:122-112
LOCATION:
SUMMARY:Co
DTSTAMP:20171129T000000
ORGANIZER;CN=deb:MAILTO:deb@meditatinggiraffe.co.nz
DTSTART;TZID=Etc/GMT-12:20171129T000000
DTEND;TZID=Etc/GMT-12:20171130T000000
URL;VALUE=URI:http://richardmorrison.co.nz/meditatinggiraffe/upcoming-events/
DESCRIPTION: 
CATEGORIES:1
X-FUNAMBOL-ALLDAY: 1
X-MICROSOFT-CDO-ALLDAYEVENT: TRUE

END:VEVENT
BEGIN:VEVENT
UID:121-111
LOCATION:
SUMMARY:Communicating Compassionately - NVC Weekend Workshop
DTSTAMP:20171209T090000
ORGANIZER;CN=deb:MAILTO:deb@meditatinggiraffe.co.nz
DTSTART;TZID=Etc/GMT-12:20171209T090000
DTEND;TZID=Etc/GMT-12:20171210T170000
URL;VALUE=URI:http://richardmorrison.co.nz/meditatinggiraffe/upcoming-events/
DESCRIPTION: 
CATEGORIES:1
END:VEVENT
END:VCALENDAR